BEGIN:VCALENDAR
VERSION:2.0
PRODID:spatie/icalendar-generator
DESCRIPTION:Events from Demarest Home and School Association
X-WR-CALDESC:Events from Demarest Home and School Association
REFRESH-INTERVAL;VALUE=DURATION:PT1440M
X-PUBLISHED-TTL:PT1440M
BEGIN:VTIMEZONE
TZID:Etc/GMT+4
BEGIN:STANDARD
DTSTART:20230326T000000Z
TZOFFSETFROM:-0400
TZOFFSETTO:-0400
END:STANDARD
END:VTIMEZONE
BEGIN:VTIMEZONE
TZID:UTC
BEGIN:STANDARD
DTSTART:20250726T144229Z
TZOFFSETFROM:+0000
TZOFFSETTO:+0000
END:STANDARD
END:VTIMEZONE
BEGIN:VEVENT
UID:109-94
DTSTAMP:20260422T144229Z
SUMMARY:Cocoa Bomb Fundraiser Pickup
LOCATION:
ORGANIZER;CN=HSA-Admin:MAILTO:webmaster@demaresthsa.org
DTSTART;TZID=Etc/GMT+4:20231221T000000
DTEND;TZID=Etc/GMT+4:20231221T010000
X-ALT-DESC;FMTTYPE=TEXT/HTML:
CATEGORIES:General
URL;VALUE=URI:http://demaresthsa.org/mc-events/cocoa-bomb-fundraiser-pickup
 /
METHOD:PUBLISH
END:VEVENT
END:VCALENDAR