BEGIN:VCALENDAR
VERSION:2.0
PRODID:spatie/icalendar-generator
DESCRIPTION:Events from Demarest Home and School Association
X-WR-CALDESC:Events from Demarest Home and School Association
REFRESH-INTERVAL;VALUE=DURATION:PT1440M
X-PUBLISHED-TTL:PT1440M
BEGIN:VTIMEZONE
TZID:Etc/GMT+4
BEGIN:STANDARD
DTSTART:20230317T000000Z
TZOFFSETFROM:-0400
TZOFFSETTO:-0400
END:STANDARD
END:VTIMEZONE
BEGIN:VTIMEZONE
TZID:UTC
BEGIN:STANDARD
DTSTART:20250726T181402Z
TZOFFSETFROM:+0000
TZOFFSETTO:+0000
END:STANDARD
END:VTIMEZONE
BEGIN:VEVENT
UID:108-93
DTSTAMP:20260422T181402Z
SUMMARY:Winter Concert
LOCATION:
ORGANIZER;CN=HSA-Admin:MAILTO:webmaster@demaresthsa.org
DTSTART;TZID=Etc/GMT+4:20231212T000000
DTEND;TZID=Etc/GMT+4:20231212T010000
X-ALT-DESC;FMTTYPE=TEXT/HTML:
CATEGORIES:General
URL;VALUE=URI:http://demaresthsa.org/mc-events/winter-concert/
METHOD:PUBLISH
END:VEVENT
END:VCALENDAR