BEGIN:VCALENDAR
VERSION:2.0
PRODID:spatie/icalendar-generator
DESCRIPTION:Events from Demarest Home and School Association
X-WR-CALDESC:Events from Demarest Home and School Association
REFRESH-INTERVAL;VALUE=DURATION:PT1440M
X-PUBLISHED-TTL:PT1440M
BEGIN:VTIMEZONE
TZID:Etc/GMT+4
BEGIN:STANDARD
DTSTART:20230102T000000Z
TZOFFSETFROM:-0400
TZOFFSETTO:-0400
END:STANDARD
END:VTIMEZONE
BEGIN:VTIMEZONE
TZID:UTC
BEGIN:STANDARD
DTSTART:20250725T133218Z
TZOFFSETFROM:+0000
TZOFFSETTO:+0000
END:STANDARD
END:VTIMEZONE
BEGIN:VEVENT
UID:85-70
DTSTAMP:20260421T133218Z
SUMMARY:6th Grade Class Ice Pop Sale
LOCATION:
ORGANIZER;CN=HSA-Admin:MAILTO:webmaster@demaresthsa.org
DTSTART;TZID=Etc/GMT+4:20230929T000000
DTEND;TZID=Etc/GMT+4:20230929T010000
X-ALT-DESC;FMTTYPE=TEXT/HTML:
CATEGORIES:General
URL;VALUE=URI:https://demaresthsa.org/mc-events/6th-grade-class-ice-pop-sal
 e-3/
METHOD:PUBLISH
END:VEVENT
END:VCALENDAR