BEGIN:VCALENDAR
VERSION:2.0
PRODID:spatie/icalendar-generator
DESCRIPTION:Events from Demarest Home and School Association
X-WR-CALDESC:Events from Demarest Home and School Association
REFRESH-INTERVAL;VALUE=DURATION:PT1440M
X-PUBLISHED-TTL:PT1440M
BEGIN:VTIMEZONE
TZID:Etc/GMT+4
BEGIN:STANDARD
DTSTART:20230615T000000Z
TZOFFSETFROM:-0400
TZOFFSETTO:-0400
END:STANDARD
END:VTIMEZONE
BEGIN:VTIMEZONE
TZID:UTC
BEGIN:STANDARD
DTSTART:20250724T163650Z
TZOFFSETFROM:+0000
TZOFFSETTO:+0000
END:STANDARD
END:VTIMEZONE
BEGIN:VEVENT
UID:129-113
DTSTAMP:20260420T163650Z
SUMMARY:Volleyball Clinic Registration Opens (Grades 3-6)
LOCATION:
ORGANIZER;CN=HSA-Admin:MAILTO:webmaster@demaresthsa.org
DTSTART;TZID=Etc/GMT+4:20240311T000000
DTEND;TZID=Etc/GMT+4:20240311T010000
X-ALT-DESC;FMTTYPE=TEXT/HTML:
CATEGORIES:General
URL;VALUE=URI:https://demaresthsa.org/mc-events/volleyball-clinic-registrat
 ion-opens-grades-3-6/
METHOD:PUBLISH
END:VEVENT
END:VCALENDAR