BEGIN:VCALENDAR
VERSION:2.0
PRODID:spatie/icalendar-generator
DESCRIPTION:Events from Demarest Home and School Association
X-WR-CALDESC:Events from Demarest Home and School Association
REFRESH-INTERVAL;VALUE=DURATION:PT1440M
X-PUBLISHED-TTL:PT1440M
BEGIN:VTIMEZONE
TZID:Etc/GMT+4
BEGIN:STANDARD
DTSTART:20240606T000000Z
TZOFFSETFROM:-0400
TZOFFSETTO:-0400
END:STANDARD
END:VTIMEZONE
BEGIN:VTIMEZONE
TZID:UTC
BEGIN:STANDARD
DTSTART:20250726T044608Z
TZOFFSETFROM:+0000
TZOFFSETTO:+0000
END:STANDARD
END:VTIMEZONE
BEGIN:VEVENT
UID:243-223
DTSTAMP:20260422T044608Z
SUMMARY:Read Across America / Read-a-Thon Kickoff
LOCATION:
ORGANIZER;CN=HSA-Admin:MAILTO:webmaster@demaresthsa.org
DTSTART;TZID=Etc/GMT+4;VALUE=DATE:20250303
DTEND;TZID=Etc/GMT+4;VALUE=DATE:20250304
X-ALT-DESC;FMTTYPE=TEXT/HTML:
CATEGORIES:General
URL;VALUE=URI:https://demaresthsa.org/mc-events/read-across-america-read-a-
 thon-kickoff-2/
METHOD:PUBLISH
END:VEVENT
END:VCALENDAR